BEGIN:VCALENDAR
VERSION:2.0
PRODID:-//Birregurra Community Health Centre - ECPv5.1.4//NONSGML v1.0//EN
CALSCALE:GREGORIAN
METHOD:PUBLISH
X-WR-CALNAME:Birregurra Community Health Centre
X-ORIGINAL-URL:https://birregurracommunityhealthcentre.com.au
X-WR-CALDESC:Events for Birregurra Community Health Centre
BEGIN:VTIMEZONE
TZID:Australia/Melbourne
BEGIN:STANDARD
TZOFFSETFROM:+1100
TZOFFSETTO:+1000
TZNAME:AEST
DTSTART:20190406T160000
END:STANDARD
BEGIN:DAYLIGHT
TZOFFSETFROM:+1000
TZOFFSETTO:+1100
TZNAME:AEDT
DTSTART:20191005T160000
END:DAYLIGHT
END:VTIMEZONE
BEGIN:VEVENT
DTSTART;TZID=Australia/Melbourne:20190920T190000
DTEND;TZID=Australia/Melbourne:20190920T210000
DTSTAMP:20210223T031540
CREATED:20190913T003106Z
LAST-MODIFIED:20190913T003107Z
UID:2753-1569006000-1569013200@birregurracommunityhealthcentre.com.au
SUMMARY:Sip N Stretch
DESCRIPTION:Friday\, September 20\, 2019 at 7pm-8pm\, nibbles & wine from 8pm-9pm \nBYO wine \nJoin us for a relaxing evening wind down of restorative yoga followed by nibbles & wine. \nBookings for yoga & catering essential. \n5236 4009 of kylie.edwards@cah.vic.gov.au \n  \n
URL:https://birregurracommunityhealthcentre.com.au/event/sip-n-stretch/
LOCATION:Birregurra Community Health Centre\, 28-30 Strachan Street\, Birregurra\, Victoria\, 3242\, Australia
CATEGORIES:Women's Health,Yoga
ATTACH;FMTTYPE=image/png:https://birregurracommunityhealthcentre.com.au/wp-content/uploads/2019/09/Screen-Shot-2019-08-30-at-1.48.28-PM.png
END:VEVENT
END:VCALENDAR