BEGIN:VCALENDAR
VERSION:2.0
PRODID:-//Birregurra Community Health Centre - ECPv5.1.4//NONSGML v1.0//EN
CALSCALE:GREGORIAN
METHOD:PUBLISH
X-WR-CALNAME:Birregurra Community Health Centre
X-ORIGINAL-URL:https://birregurracommunityhealthcentre.com.au
X-WR-CALDESC:Events for Birregurra Community Health Centre
BEGIN:VTIMEZONE
TZID:Australia/Melbourne
BEGIN:STANDARD
TZOFFSETFROM:+1100
TZOFFSETTO:+1000
TZNAME:AEST
DTSTART:20190406T160000
END:STANDARD
BEGIN:DAYLIGHT
TZOFFSETFROM:+1000
TZOFFSETTO:+1100
TZNAME:AEDT
DTSTART:20191005T160000
END:DAYLIGHT
END:VTIMEZONE
BEGIN:VEVENT
DTSTART;TZID=Australia/Melbourne:20190910T080000
DTEND;TZID=Australia/Melbourne:20190910T170000
DTSTAMP:20210223T033412
CREATED:20190910T042452Z
LAST-MODIFIED:20190910T042452Z
UID:2453-1568102400-1568134800@birregurracommunityhealthcentre.com.au
SUMMARY:Kids' art class
DESCRIPTION:Drawing with different mediums art class hosted by Jess. \nFor primary school aged kids \n10.30am-12.30pmWednesday\, October 1\, 2019 \n$10pp. \n
URL:https://birregurracommunityhealthcentre.com.au/event/kids-art-class/
LOCATION:Birregurra Community Health Centre\, 28-30 Strachan Street\, Birregurra\, Victoria\, 3242\, Australia
CATEGORIES:school holidays
ATTACH;FMTTYPE=image/png:https://birregurracommunityhealthcentre.com.au/wp-content/uploads/2019/08/life-drawing-classes.png
ORGANIZER;CN="BCHC%20Co-ordinator":MAILTO:kylie.edwards@cah.vic.gov.au
END:VEVENT
END:VCALENDAR