BEGIN:VCALENDAR
VERSION:2.0
PRODID:-//Birregurra Community Health Centre - ECPv5.1.4//NONSGML v1.0//EN
CALSCALE:GREGORIAN
METHOD:PUBLISH
X-WR-CALNAME:Birregurra Community Health Centre
X-ORIGINAL-URL:https://birregurracommunityhealthcentre.com.au
X-WR-CALDESC:Events for Birregurra Community Health Centre
BEGIN:VTIMEZONE
TZID:Australia/Melbourne
BEGIN:STANDARD
TZOFFSETFROM:+1100
TZOFFSETTO:+1000
TZNAME:AEST
DTSTART:20200404T160000
END:STANDARD
BEGIN:DAYLIGHT
TZOFFSETFROM:+1000
TZOFFSETTO:+1100
TZNAME:AEDT
DTSTART:20201003T160000
END:DAYLIGHT
END:VTIMEZONE
BEGIN:VEVENT
DTSTART;TZID=Australia/Melbourne:20200316T180000
DTEND;TZID=Australia/Melbourne:20200316T213000
DTSTAMP:20210223T032018
CREATED:20200311T030052Z
LAST-MODIFIED:20200311T030825Z
UID:2776-1584381600-1584394200@birregurracommunityhealthcentre.com.au
SUMMARY:CPR & First Aid Course
DESCRIPTION: \n
URL:https://birregurracommunityhealthcentre.com.au/event/cpr-first-aid-course/2020-03-16/
LOCATION:Birregurra Community Health Centre\, 28-30 Strachan Street\, Birregurra\, Victoria\, 3242\, Australia
CATEGORIES:First Aid
ATTACH;FMTTYPE=image/png:https://birregurracommunityhealthcentre.com.au/wp-content/uploads/2020/03/CPR-course.png
END:VEVENT
END:VCALENDAR